BEGIN:VCALENDAR
VERSION:2.0
PRODID:-//Veeühing (GWP Estonia) - Veekindla maailma eest - ECPv6.15.20//NONSGML v1.0//EN
CALSCALE:GREGORIAN
METHOD:PUBLISH
X-ORIGINAL-URL:https://www.veeyhing.ee
X-WR-CALDESC:Events for Veeühing (GWP Estonia) - Veekindla maailma eest
REFRESH-INTERVAL;VALUE=DURATION:PT1H
X-Robots-Tag:noindex
X-PUBLISHED-TTL:PT1H
BEGIN:VTIMEZONE
TZID:Europe/Tallinn
BEGIN:DAYLIGHT
TZOFFSETFROM:+0200
TZOFFSETTO:+0300
TZNAME:EEST
DTSTART:20250330T010000
END:DAYLIGHT
BEGIN:STANDARD
TZOFFSETFROM:+0300
TZOFFSETTO:+0200
TZNAME:EET
DTSTART:20251026T010000
END:STANDARD
BEGIN:DAYLIGHT
TZOFFSETFROM:+0200
TZOFFSETTO:+0300
TZNAME:EEST
DTSTART:20260329T010000
END:DAYLIGHT
BEGIN:STANDARD
TZOFFSETFROM:+0300
TZOFFSETTO:+0200
TZNAME:EET
DTSTART:20261025T010000
END:STANDARD
BEGIN:DAYLIGHT
TZOFFSETFROM:+0200
TZOFFSETTO:+0300
TZNAME:EEST
DTSTART:20270328T010000
END:DAYLIGHT
BEGIN:STANDARD
TZOFFSETFROM:+0300
TZOFFSETTO:+0200
TZNAME:EET
DTSTART:20271031T010000
END:STANDARD
END:VTIMEZONE
BEGIN:VEVENT
DTSTART;TZID=Europe/Tallinn:20260202T000000
DTEND;TZID=Europe/Tallinn:20260202T235959
DTSTAMP:20260422T123136
CREATED:20260331T155356Z
LAST-MODIFIED:20260402T230628Z
UID:2838-1769990400-1770076799@www.veeyhing.ee
SUMMARY:2026 ELFi poolt korraldatud "Märgalade päeva konverents" Pärnus
DESCRIPTION:Korradajad Eestimaa Looduse Fond\, Eesti Teaduste Akadeemia \n2 veebruaril 2026.a \nVeebis või Pärnus\, Kultuuriklubis Tempel\, Mere pst.2 \nPäevakava \n10.00 Tervituskohv ja registreerimine \n10.30 Päeva tutvustus \n10.35 Tervitussõnad Andres Sutt Eesti Vabariigi energeetika- ja keskkonnaminister \n10.45 Noor looduskaitsja 2025 Auhinna annab üle ELFi juhatuse esimees Tarmo Tüür \n10.55 *ettekande pealkiri täpsustub Mart Kiis Kliimaministeeriumi looduskaitse strateegiate valdkonna juht   \n11.15 Virgutusvõimlemine \n11.20 Märgalad Eesti kasvuhoonegaaside inventuuris Janika Laht LULUFC koordinaator Keskkonnaagentuuris \n11.40 Kaitstavate soode tegevuskavast Triin Amos Keskkonnaameti kaitse planeerimise spetsialist \n12.00 Turba teekaart – tasakaal maapõueressursside kasutuse ja keskkonnahoiu vahel Reeli Sildnik Kliimaministeeriumi maavarade osakonna nõunik \n12.20 Meie kaukad on laukad\, millel põhja pole all /K.Ehin/ Marko Kohv Tartu Ülikooli rakendusgeoloogia kaasprofessor\nPiret Pungas-Kohv ELFi keskkonnateadlikkuse ekspert projektis WaterLANDS \n12.50 Loometöö soodest – WaterLANDS kunstiresidentuuri hetkeseisud Elo Liiv Kunstiresidentuuri stipendiaat projektis WaterLANDS \n13.00 LÕUNA \n14.00 Soo ja kliima Siim Veski Tallinna Tehnikaülikooli geoloogiaprofessor \n14.20 Tulevikukliima Läänemere piirkonnas: kindlad ja vähemkindlad projektsioonid Piia Post Tartu Ülikooli kliimateaduse professor \n14.40 Kas parima kliimaga kohaneja otsingud viivad meid rappa? Ain Kull Tartu Ülikooli loodusgeograafia kaasprofessor \n15.00 Soo õigused Elbu raba loo näitel Pihel Sarv Tallinna Halduskohtu kohtunik \n15.20 Paus ja pildikroonika tutvustus Anna Birgitta Erikson Projekti WaterLANDS kroonik \n15.40 AKADEEMIKUTE ARUTELU: „Teadus ja loodus keset väärtusi ja vaidlusi“\n\nJüri Allik Tartu Ülikooli eksperimentaalpsühholoogia professor\n\nUrmas Kõljalg Tartu Ülikooli mükoloogia professor\n\nÜlo Mander Tartu Ülikooli loodusgeograafia ja maastikuökoloogia professor\n\nTarmo Soomere Tallinna Tehnikaülikooli tenuuriprofessor ja Eesti Maaülikooli nõukogu esimees \nModereerib Teaduste Akadeemia keskkonnakomisjoni aseesimees Urmas Tartes.\n\n17.10 Lõppsõnad Silvia Lotman Eestimaa Looduse Fondi juhatuse liige \nPäeva joonistas üles kunstnik Piret Räni ning fotosid tegi Anna Birgitta Erikson. \nVeebis osalemine oli tasuta\, kuid tuli registreeruda Fientas \nKohapeal osalemise tasu oli 25 eurot \nhttps://elfond.ee/margalade-paeva-konverents-2026/jarelvaatamine
URL:https://www.veeyhing.ee/sundmused/2026-elf-poolt-korraldatud-margalade-paeva-konverents-parnus/
LOCATION:Pärnu\, Pärnu\, Estonia
END:VEVENT
END:VCALENDAR